BEGIN:VCALENDAR
VERSION:2.0
PRODID:-//Sabre//Sabre VObject 4.5.8//EN
CALSCALE:GREGORIAN
BEGIN:VEVENT
UID:sabre-vobject-2e8d8933-3a05-4f7e-985d-8617f1cc5448
DTSTAMP:20260422T222803Z
SUMMARY:Amtsausschuss
DTSTART;TZID=Europe/Berlin:20260504T190000
ORGANIZER;CN=Amt Hüttener Berge:MAILTO:info@amt-huettener-berge.de
LOCATION:Sitzungssaal der Amtsverwaltung\, Groß Wittensee\, Holtsee
GEO:54.3988114;9.8547044
BEGIN:VALARM
TRIGGER;VALUE=DURATION:P1D
ACTION:DISPLAY
DESCRIPTION:Amtsausschuss
END:VALARM
END:VEVENT
END:VCALENDAR
