BEGIN:VCALENDAR
VERSION:2.0
PRODID:-//Sabre//Sabre VObject 4.5.8//EN
CALSCALE:GREGORIAN
BEGIN:VEVENT
UID:sabre-vobject-01fcfd98-e83e-409e-ae0d-9812ba479fe3
DTSTAMP:20260422T223339Z
SUMMARY:Familienkirche in Brekendorf\, Pastorin Jessika Gude & Team
DTSTART;TZID=Europe/Berlin:20260503T123000
ORGANIZER;CN=Ev.-Luth. Kirchengemeinde Hütten:MAILTO:kirche-huetten@kkre.d
 e
LOCATION:St.Michaelis-Kapelle Brekendorf\, Alter Bahndamm\, Brekendorf
GEO:54.419961;9.628189
BEGIN:VALARM
TRIGGER;VALUE=DURATION:P1D
ACTION:DISPLAY
DESCRIPTION:Familienkirche in Brekendorf\, Pastorin Jessika Gude & Team
END:VALARM
END:VEVENT
END:VCALENDAR
