BEGIN:VCALENDAR
VERSION:2.0
PRODID:-//Sabre//Sabre VObject 4.5.8//EN
CALSCALE:GREGORIAN
BEGIN:VEVENT
UID:sabre-vobject-cc69904d-5ab1-4129-8602-6b6b1b6c4689
DTSTAMP:20260422T222924Z
SUMMARY:Filmabend
DTSTART;TZID=Europe/Berlin:20260504T193000
ORGANIZER;CN=Gemeinde Ascheffel:MAILTO:info@gemeinde-ascheffel.de
LOCATION:Dat Ole Amt\, Dörpstuuv\, Schulberg 6\, Ascheffel
GEO:54.4287602;9.7017865
DESCRIPTION:Bewegender Film über das Verschwinden der dörflichen Lebensku
 ltur. Plattdeutsch mit deutschen Untertiteln. Eintritt frei. Um eine Spend
 e wird gebeten\nBewegender Film über das Verschwinden der dörflichen Leb
 enskultur. Plattdeutsch mit deutschen Untertiteln. \nEintritt frei. Um ein
 e Spende wird gebeten
BEGIN:VALARM
TRIGGER;VALUE=DURATION:P1D
ACTION:DISPLAY
DESCRIPTION:Filmabend
END:VALARM
END:VEVENT
END:VCALENDAR
