BEGIN:VCALENDAR
VERSION:2.0
PRODID:-//Sabre//Sabre VObject 4.5.8//EN
CALSCALE:GREGORIAN
BEGIN:VEVENT
UID:sabre-vobject-9f28abdc-0873-4650-ba3e-949d70a8fe4b
DTSTAMP:20260422T223012Z
SUMMARY:Konfirmation
DTSTART;TZID=Europe/Berlin:20260503T100000
ORGANIZER;CN=Kirchengemeinde Sehestedt:MAILTO:no-reply@amt-huettener-berge.
 de
LOCATION:Kirche Sehestedt\, Holtsee
GEO:54.3988114;9.8547044
BEGIN:VALARM
TRIGGER;VALUE=DURATION:P1D
ACTION:DISPLAY
DESCRIPTION:Konfirmation
END:VALARM
END:VEVENT
END:VCALENDAR
