BEGIN:VCALENDAR
VERSION:2.0
PRODID:-//Sabre//Sabre VObject 4.5.8//EN
CALSCALE:GREGORIAN
BEGIN:VEVENT
UID:sabre-vobject-08ad2e1d-a1d6-4a25-9d90-8acbd36d9fd1
DTSTAMP:20260422T223321Z
SUMMARY:Sitzung Bau- und Verkehrsausschuss Owschlag am 05.05.2026
DTSTART;TZID=Europe/Berlin:20260505T193000
ORGANIZER;CN=Bau- und Verkehrsausschuss Owschlag:MAILTO:no-reply@amt-huette
 ner-berge.de
LOCATION:Dorfgemeinschaftshaus der Gemeinde Owschlag\, Dorfgemeinschaftshau
 s der Gemeinde Owschlag\, Owschlag
GEO:54.3909826;9.6194728
BEGIN:VALARM
TRIGGER;VALUE=DURATION:P1D
ACTION:DISPLAY
DESCRIPTION:Sitzung Bau- und Verkehrsausschuss Owschlag am 05.05.2026
END:VALARM
END:VEVENT
END:VCALENDAR
